BEGIN:VCALENDAR
VERSION:2.0
PRODID:-//Date iCal//NONSGML kigkonsult.se iCalcreator 2.20.2//
METHOD:PUBLISH
X-WR-CALNAME;VALUE=TEXT:Event Calendar
BEGIN:VEVENT
UID:calendar.7091.field_event_date.0@pascagoula.audubon.org
DTSTAMP:20210424T155803Z
CREATED:20210413T203013Z
DESCRIPTION:It is Tern nesting season\, and we want to help educate y\n  Sa
 turday\, May 8\, 2021 - \n09:00 to 15:00
DTSTART:20210508T090000Z
DTEND:20210508T150000Z
LAST-MODIFIED:20210413T203013Z
LOCATION:5107 Arthur Street\, MOSS POINT\, Mississippi\, 39563\, United Sta
 tes
SUMMARY:Tern Fair
URL;TYPE=URI:https://pascagoula.audubon.org/events/tern-fair
END:VEVENT
END:VCALENDAR
