BEGIN:VCALENDAR
VERSION:2.0
PRODID:-//Date iCal//NONSGML kigkonsult.se iCalcreator 2.20.2//
METHOD:PUBLISH
X-WR-CALNAME;VALUE=TEXT:Event Calendar
BEGIN:VEVENT
UID:calendar.7082.field_event_date.0@pascagoula.audubon.org
DTSTAMP:20210424T155740Z
CREATED:20210113T173127Z
DESCRIPTION:A nature-based program for toddlers aged 2 to 5. \n  Thursday\,
  April 29\, 2021 - \n09:30 to 10:45
DTSTART:20210429T093000Z
DTEND:20210429T104500Z
LAST-MODIFIED:20210113T173127Z
LOCATION:5107 Arthur Street\, MOSS POINT\, Mississippi\, 39563\, United Sta
 tes
SUMMARY:Nature Tots
URL;TYPE=URI:https://pascagoula.audubon.org/events/nature-tots-29
END:VEVENT
END:VCALENDAR
