BEGIN:VCALENDAR
VERSION:2.0
PRODID:-//Date iCal//NONSGML kigkonsult.se iCalcreator 2.20.2//
METHOD:PUBLISH
X-WR-CALNAME;VALUE=TEXT:Event Calendar
BEGIN:VEVENT
UID:calendar.6984.field_event_date.0@pascagoula.audubon.org
DTSTAMP:20210424T155727Z
CREATED:20200917T195859Z
DESCRIPTION:Join us for our monthly Audubon Academy Home School prog\n  \nW
 ednesday\, April 28\, 2021 - 09:00 to Wednesday\, July 14\, 2021 - 10:00
DTSTART:20210428T090000Z
DTEND:20210714T100000Z
LAST-MODIFIED:20200917T195859Z
LOCATION:5107 Arthur St.\, Moss Point\, Mississippi\, 39563\, United States
SUMMARY:Audubon Academy
URL;TYPE=URI:https://pascagoula.audubon.org/events/audubon-academy-7
END:VEVENT
END:VCALENDAR
